BEGIN:VCALENDAR
VERSION:2.0
PRODID:-//CIRE - ECPv6.11.2.1//NONSGML v1.0//EN
CALSCALE:GREGORIAN
METHOD:PUBLISH
X-WR-CALNAME:CIRE
X-ORIGINAL-URL:http://www.cire.org.co
X-WR-CALDESC:Eventos para CIRE
REFRESH-INTERVAL;VALUE=DURATION:PT1H
X-Robots-Tag:noindex
X-PUBLISHED-TTL:PT1H
BEGIN:VTIMEZONE
TZID:America/Bogota
BEGIN:STANDARD
TZOFFSETFROM:-0500
TZOFFSETTO:-0500
TZNAME:-05
DTSTART:20250101T000000
END:STANDARD
END:VTIMEZONE
BEGIN:VEVENT
DTSTART;TZID=America/Bogota:20260206T170000
DTEND;TZID=America/Bogota:20260208T180000
DTSTAMP:20260424T115359
CREATED:20251219T164420Z
LAST-MODIFIED:20260131T154439Z
UID:10001125-1770397200-1770573600@www.cire.org.co
SUMMARY:Retiro de Iniciación a la Oración Contemplativa
DESCRIPTION:Retiro de Iniciación a la Oración Contemplativa \nEn este retiro nos introducimos en la práctica de la oración contemplativa\, también llamada oración del silencio/corazón\, siguiendo el camino propuesto por Franz Jalics SJ en su libro Ejercicios de Contemplación. \n¿Qué es? \nEste retiro es una introducción a la oración contemplativa cristiana según Jalics: un camino sencillo y profundo de encuentro directo con Dios en el silencio. Este\, se caracteriza por un acercamiento paso a paso a la Oración de Jesús: anclado en la postura del cuerpo\, la respiración consciente\, la atención en las manos y la repetición del nombre de Jesús. Este proceso nos lleva a nuestro interior\, a nuestra profundidad y a una apertura y entrega a Dios. \nLa oración contemplativa no consiste en pensar\, imaginar\, meditar textos u orar verbalmente\, sino en aprender a estar ante Dios\, con una atención amorosa y confiada. Es un camino en el que la iniciativa pasa del esfuerzo humano a la gracia recibida. \nEl retiro está inspirado en la enseñanza y experiencia de Franz Jalics SJ\, jesuita y maestro de oración contemplativa\, fiel a la tradición espiritual cristiana y profundamente pastoral. \n\nValor total: $760.000 \nValor a pagar: $380.000 (Iva Incluido) \nEste valor tiene ya el apoyo del 50%\, que lo ofrece el Subfondo para Ejercicios Espirituales\, San Claudio de la Colombiere de la Provincia Colombiana \n\n¿A quién está dirigido? \nEste retiro está orientado a personas que buscan silencio interior\, paz y una mayor presencia en su vida espiritual. Está pensado para quienes ya han recorrido un camino de oración —como la reflexión bíblica\, los ejercicios espirituales u otras formas de meditación— y sienten el llamado a pasar de una oración más activa y discursiva a una oración más simple\, directa\, silenciosa y centrada en Dios. \nNo se requiere experiencia previa en oración contemplativa ni conocimientos teológicos especiales. Tampoco es necesario tener experiencia en técnicas de meditación. Basta contar con una estabilidad psicológica básica\, una disposición interior abierta y la voluntad de participar en un proceso de interiorización acompañado. \nSi eres una personas que se siente bien con oraciones vocales\, mentales\, imaginativas o diálogos con Dios y  éstas te están dando frutos y crecimiento en la Fe\, de pronto no es tu momento para este retiro. \n¿Cómo funciona el retiro? \nEl retiro se vive en un clima de silencio y sencillez en el cual los participantes son introducidos de manera progresiva y pedagógica en la práctica de la oración contemplativa. \nEste no se trata de aprender una técnica ni de lograr experiencias especiales. El objetivo es aprender a no hacer\, a dejar el pensamiento discursivo y a permanecer ante Dios con una atención amorosa y confiada. Es una invitación a pasar del esfuerzo a la confianza\, del hacer al recibir\, del pensamiento al silencio y de la búsqueda a la presencia. \nEstos dos días se transcurren entre: \n\nTiempos diarios de oración contemplativa guiada: grupales e individuales (Entre 4 y 6 horas diarias)\nBreves introducciones prácticas que orientan la experiencia\nBreves enseñanzas que ayudan a comprender el camino\nEspacios de descanso y recogimiento\n\nToda la experiencia se realiza en silencio y se invita que cada momento sea de presencia plena. Los Ejercitantes pernoctarán en la casa Santa María  de los farallones\, en habitación individual con alimentación completa \n¿Quién fue Franz Jalics? \nFranz Jalics SJ (1927–2021) fue un sacerdote jesuita\, maestro de ejercicios espirituales y una de las figuras más influyentes de la oración contemplativa cristiana en el siglo XX. \nNacido en Hungría y formado en Alemania\, dedicó gran parte de su vida a acompañar espiritualmente a personas en el camino hacia la contemplación. Durante décadas dirigió cientos de retiros contemplativos\, especialmente en Alemania y América Latina. \nFranz Jalics vivió dos experiencias extremas que marcaron profundamente su vida y su espiritualidad. La primera ocurrió durante la Segunda Guerra Mundial\, mientras cumplía el servicio militar: en medio de un bombardeo\, sintió un encuentro profundo con Dios que definió su vocación y su seguimiento a Dios. La segunda tuvo lugar en Argentina\, cuando fue secuestrado y permaneció varios meses atado de manos. Lejos de quebrarlo\, este tiempo se convirtió en una oportunidad para profundizar en la oración silenciosa\, apoyándose en la invocación del nombre de Jesús y en la entrega total a Dios. Este camino de oración quedó consignado en su libro: “Ejercicios de Contemplación” que es la guía y base de este retiro de iniciación a la Oración Contemplativa.
URL:http://www.cire.org.co/oferta/retiro-de-iniciacion-a-la-oracion-contemplativa/
LOCATION:Casa Santa María de los Farallones\, Casa Santa María de los Farallones\, Cali
CATEGORIES:Retiro de 3 días
ATTACH;FMTTYPE=image/png:http://www.cire.org.co/wp-content/uploads/2025/12/Retiro-de-Iniciacion-a-la-Oracion-Contemplativa.png
ORGANIZER;CN="CIRE - Valle Pac%C3%ADfico":MAILTO:cire.vallepacifico@jesuitas.org
END:VEVENT
BEGIN:VEVENT
DTSTART;TZID=America/Bogota:20251016T080000
DTEND;TZID=America/Bogota:20251016T130000
DTSTAMP:20260424T115359
CREATED:20250303T135254Z
LAST-MODIFIED:20251017T181944Z
UID:10001029-1760601600-1760619600@www.cire.org.co
SUMMARY:Ejercicios Espirituales Cali
DESCRIPTION:Lugar: Casa Santa María de los Farallones \nAcompaña: P. Andrés Hernández\, SJ \nValor: $580.000
URL:http://www.cire.org.co/oferta/ejercicios-espirituales-cali-2/
LOCATION:Casa Santa María de los Farallones\, Casa Santa María de los Farallones\, Cali
CATEGORIES:Retiro de 3 días
ATTACH;FMTTYPE=image/png:http://www.cire.org.co/wp-content/uploads/2025/03/EE-3-dias-Cali-Octubre.png
ORGANIZER;CN="Centro Pastoral Cali":MAILTO:deicy.vargas@javerianacali.edu.co
END:VEVENT
BEGIN:VEVENT
DTSTART;TZID=America/Bogota:20250710T080000
DTEND;TZID=America/Bogota:20250713T170000
DTSTAMP:20260424T115359
CREATED:20250303T134847Z
LAST-MODIFIED:20250303T134919Z
UID:10001028-1752134400-1752426000@www.cire.org.co
SUMMARY:Ejercicios Espirituales - Cali
DESCRIPTION:Lugar: Casa Santa María de los Farallones \nAcompaña: P. Ricardo Delgado\, SJ \nValor: $580.000
URL:http://www.cire.org.co/oferta/ejercicios-espirituales-cali/
LOCATION:Casa Santa María de los Farallones\, Casa Santa María de los Farallones\, Cali
CATEGORIES:Retiro de 3 días
ATTACH;FMTTYPE=image/png:http://www.cire.org.co/wp-content/uploads/2025/03/ee-3-dias-Cali.png
ORGANIZER;CN="Centro Pastoral Cali":MAILTO:deicy.vargas@javerianacali.edu.co
END:VEVENT
BEGIN:VEVENT
DTSTART;TZID=America/Bogota:20250416T080000
DTEND;TZID=America/Bogota:20250420T170000
DTSTAMP:20260424T115359
CREATED:20250303T133359Z
LAST-MODIFIED:20250303T133636Z
UID:10001027-1744790400-1745168400@www.cire.org.co
SUMMARY:Ejercicios Espirituales Semana Santa - Cali
DESCRIPTION:Lugar: Casa Santa María de los Farallones \nAcompaña: Raúl Hernán Restrepo\, SJ \nValor: $750.000
URL:http://www.cire.org.co/oferta/ejercicios-espirituales-semana-santa-cali/
LOCATION:Casa Santa María de los Farallones\, Casa Santa María de los Farallones\, Cali
CATEGORIES:Retiro de 3 días
ATTACH;FMTTYPE=image/png:http://www.cire.org.co/wp-content/uploads/2025/03/EE-Semana-Santa-Cali.png
ORGANIZER;CN="Centro Pastoral Cali":MAILTO:deicy.vargas@javerianacali.edu.co
END:VEVENT
END:VCALENDAR