BEGIN:VCALENDAR
VERSION:2.0
PRODID:-//CIRE - ECPv6.11.2.1//NONSGML v1.0//EN
CALSCALE:GREGORIAN
METHOD:PUBLISH
X-WR-CALNAME:CIRE
X-ORIGINAL-URL:http://www.cire.org.co
X-WR-CALDESC:Eventos para CIRE
REFRESH-INTERVAL;VALUE=DURATION:PT1H
X-Robots-Tag:noindex
X-PUBLISHED-TTL:PT1H
BEGIN:VTIMEZONE
TZID:America/Bogota
BEGIN:STANDARD
TZOFFSETFROM:-0500
TZOFFSETTO:-0500
TZNAME:-05
DTSTART:20230101T000000
END:STANDARD
END:VTIMEZONE
BEGIN:VEVENT
DTSTART;TZID=America/Bogota:20230207T180000
DTEND;TZID=America/Bogota:20230328T203000
DTSTAMP:20260425T062042
CREATED:20221119T025850Z
LAST-MODIFIED:20221119T025850Z
UID:11165-1675792800-1680035400@www.cire.org.co
SUMMARY:Curso de Introducción al Mindfulness
DESCRIPTION:Curso virtual. Una herramienta para profundizar tu práctica contemplativa. \nSesiones semanales:\n\nfebrero: 7\, 14\, 21 y 28\nmarzo: 7\, 14 y 21.\nHorario: 6:00 pm – 8:30 pm.\n\nSesión de práctica intensiva: domingo\, 26 de marzo (8:00 am a 1:00 pm).\n\nFormador: Jaime Hernández.\n\nCosto: $355.000 IVA incluido.\n\n\nMindfulness significa prestar atención de manera consciente a la experiencia del momento presente con: interés\, curiosidad y aceptación. el cultivo del Mindfulness tiene implicaciones en la manera en que manejamos nuestra salud\, nos relacionamos con los demás\, hacemos nuestro trabajo\, criamos a nuestros hijos\, nos relacionamos con la creación\, oramos y vivimos todas las facetas de nuestra vida. \nBENEFICIOS ASOCIADOS A LA PRÁCTICA REGULAR DE MINDFULNESS \n· Mejora el manejo del dolor y la enfermedad. \n· Mejora el manejo de la ansiedad y la preocupación. \n· Mejora la regulación de nuestras emociones. \n· Mejora la atención\, la concentración y la memoria. \n· Disminuye nuestra reactividad ante el estrés. \n· Aumenta la resiliencia. \n· Mejora la calidad del sueño. \n· Fortalece el sistema inmunológico. \n· Mejora el comportamiento prosocial. \nEl curso está dirigido a cualquier persona mayor de 18 años que esté interesada en explorar los diversos beneficios potenciales que se asocian con la práctica regular de Mindfulness. \n\n 
URL:http://www.cire.org.co/oferta/curso-de-introduccion-al-mindfulness/
CATEGORIES:Cursos y Talleres
ATTACH;FMTTYPE=image/jpeg:http://www.cire.org.co/wp-content/uploads/2022/11/Mindfulness-scaled-1.jpg
END:VEVENT
END:VCALENDAR