BEGIN:VCALENDAR
VERSION:2.0
PRODID:-//CIRE - ECPv6.11.2.1//NONSGML v1.0//EN
CALSCALE:GREGORIAN
METHOD:PUBLISH
X-WR-CALNAME:CIRE
X-ORIGINAL-URL:http://www.cire.org.co
X-WR-CALDESC:Eventos para CIRE
REFRESH-INTERVAL;VALUE=DURATION:PT1H
X-Robots-Tag:noindex
X-PUBLISHED-TTL:PT1H
BEGIN:VTIMEZONE
TZID:America/Bogota
BEGIN:STANDARD
TZOFFSETFROM:-0500
TZOFFSETTO:-0500
TZNAME:-05
DTSTART:20240101T000000
END:STANDARD
END:VTIMEZONE
BEGIN:VEVENT
DTSTART;VALUE=DATE:20240313
DTEND;VALUE=DATE:20240314
DTSTAMP:20260421T183714
CREATED:20231204T150801Z
LAST-MODIFIED:20231204T150801Z
UID:11329-1710288000-1710374399@www.cire.org.co
SUMMARY:Curso Fundamental del Cristianismo: una mirada renovada de la fe
DESCRIPTION:Es un curso básico sobre el cristianismo\, que incluye fundamentación antropológica\, bíblica y teológica\, con el fin de ayudar a cristianos interesados en cualificar su formación en la fe. El concurso se dicta conjuntamente entre el Centro Ignaciano de Reflexión y Espiritualidad (CIRE)\, la Facultad de teología y el programa de Educación Continua de la PUJ. \nDiseñado para personas que quieran tener una mirada panorámica del cristianismo siguiendo los temas fundamentales del mismo: contextualización\, fundamentación bíblica\, teología sistemática\, teología aplicada. \nRequisitos\nFormación básica en bachillerato. \nHorario: Miércoles de 5 p.m. a 8p.m \nModalidad: Virtual\, por plataforma Zoom ó presencial en el CIRE\, Carrera 10 No. 65 – 48\, segundo piso. \nMetodología\nClases magistrales y lecturas indicadas por los profesores. \nSe desarrolla en dos niveles para un total de 30 sesiones divididas así: \n11 sesiones durante el primer semestre. \nCosto del primer nivel COP $1.100.000.oo IVA incluido. \n19 sesiones en el segundo semestre del 2024. \nCosto del segundo nivel COP $1.100.000.oo IVA incluido. \nOpciones de pago \n\nEfectivo y pago por Datáfono – Oficinas del CIRE\nTransferencias o consignación:\nBanco Caja social- cuenta corriente No. 21002693746 a nombre de Compañía de Jesús\, NIT. 860.007.627-1.\nBancolombia- Cuenta de Ahorro No 0-1300010070 a nombre de Compañía de Jesús\, NIT. 860.007.627-1.\nLink de pago online\n\nPaga el primer semestre completo antes de iniciar y obtén el descuento de $100.000\nPago a plazos – cuatro cuotas de $275.000\n\nObjetivos: \nGeneral\n– Exponer los elementos fundamentales del cristianismo\, por medio de un curso que\, de forma presencial y virtual\, fomente la formación de cristianos interesados en su crecimiento y madurez en la fe\, para llevar a enriquecer una mirada renovada de la fe a sus participantes e interesados. \nEspecíficos\n– Presentar por medio de cinco módulos los elementos fundamentales del cristianismo.\n– Fortalecer la fe de cristianos interesados en su formación de la fe.\n– Profundizar en una mirada renovada de la fe los elementos propios del ser cristiano. \nOrientadores del Programa: \n\nP. Antonio José Sarmiento Nova\, SJ (Coordinador)\nDra. Hna. Blanca Cecilia Cely ODN\nDr. Juan Francisco Rodríguez Cortés\nDra. Daicy de la Hoz\, PhD.\nDr. Luis Guillermo Sarasa Gallego\, SJ\nDr. Wilmar Roldán Solano\n\nPrograma:  \nPRIMER SEMESTRE ( Desde el 13 de marzo al 12 de junio) \nMARZO \n13 de marzo   Presentación del curso y del programa\, metodología y cronograma.  Conceptos distintos pero complementarios: Fe\, Religión\, Teología\, Espiritualidad  (Hna. Blanca Cecilia Cely\, ODN) \n20 de marzo   El Hecho Religioso (Antonio José Sarmiento Nova\, SJ) \nABRIL \n3 de abril    Dios\, el misterio de la Trinidad (Luis Guillermo Sarasa\, SJ) \n10 de abril  El problema del mal (Prof. Juan Francisco Rodríguez) \n17 de abril  Marco antropológico de la fe (Hna. Blanca Cecilia Cely\, ODN) \n24 de abril  Introducción a la Biblia (Antonio José Sarmiento Nova\, SJ) \nMAYO \n8  de mayo  Introducción al Antiguo Testamento (Luis Guillermo Sarasa\, S.J.) \n15 de mayo  Historia de Israel – Pentateuco (Hna. Blanca Cecilia Cely\, ODN) \n22 de mayo  Salmos y libros Sapienciales (Hna. Blanca Cecilia Cely\, ODN) \n29 de mayo  El profetismo bíblico (Prof. Juan Francisco Rodríguez) \nJUNIO \n5 de junio   Introducción al Nuevo Testamento (Luis Guillermo Sarasa\, SJ) \n12 de junio Escritos Joánicos (Luis Guillermo Sarasa\, SJ) \n11 sesiones en total del nivel 1. \nSEGUNDO SEMESTRE ( Desde el 24 de julio al 30 de noviembre) \nJULIO \n24 de julio   Comienza segundo semestre. Evangelios Sinópticos y Hechos de los Apóstoles cristianismo primitivo (Antonio José Sarmiento Nova\, SJ) \n31 de julio   Escritos paulinos (Luis Guillermo Sarasa SJ.) \nAGOSTO   \n14 de agosto   Cristología 1 (Prof. Juan Francisco Rodríguez) \n21 de agosto   Cristología 2 (Prof. Juan Francisco Rodríguez) \n28 de agosto  Antropología teológica (Hna. Blanca Cecilia Cely\, ODN.) \nSEPTIEMBRE \n4 de septiembre   Eclesiología – ministerios- sinodalidad (Antonio José Sarmiento Nova\, SJ). \n11 de septiembre  Teología de los sacramentos – sacramentos de iniciación cristiana (Prof. Oscar Arango Álzate) \n18 de septiembre  Teología y espiritualidad del matrimonio (Prof. Juan Francisco Rodríguez) y (Dra. Daicy de la Hoz.) \n25 de septiembre  Penitencia-unción de los enfermos (Prof. Oscar Arango Álzate) \nOCTUBRE \n2 de octubre        Eucaristía (Prof. Oscar Arango Álzate) \n9 de octubre        Moral fundamental (Hna. Blanca Cecilia Cely\, ODN.) \n16 de octubre      Moral social – Doctrina Social de la Iglesia – teología de la liberación (Wilmar Roldán Solano\, PhD.) \n23 de octubre      Escatología – teología de la esperanza (Prof. Juan Francisco Rodríguez) \n30 de octubre      Ecumenismo y dialogo interreligioso (Antonio José Sarmiento Nova\, SJ) \nNOVIEMBRE \n6 de noviembre La Iglesia apostólica\, los padres de la iglesia\, los primeros concilios las herejías (Antonio José Sarmiento Nova\, SJ) \n13 de noviembre El cristianismo en la edad media\, el papado\, las Órdenes Religiosas eclesiástico y el poder de los reyes\, los primeros movimientos de renovación contemplativas mendicantes\, y el poder (Antonio José Sarmiento Nova\, SJ) \n20 de noviembre El cristianismo en la edad moderna\, la reforma protestante\, la contrarreforma católica\, el Concilio de Trento\, las nuevas órdenes religiosas y las misiones (Antonio José Sarmiento Nova\, SJ) \n27 de noviembre El cristianismo en la edad contemporánea: la condenación del modernismo\, el Concilio Vaticano I\, los movimientos bíblicos\, ecuménico\, la nouvelle theologie\, el Concilio vaticano II\, las teologías y pastorales en contexto (Antonio José Sarmiento Nova\, SJ) \n30 de noviembre Taller de espiritualidad\, fin del curso. La jornada es todo el día\, de 8.30 a 4 pm en el CIRE (Prof. Juan Francisco Rodríguez) \n¡Anímate a seguir capacitando tu espíritu en este 2024!
URL:http://www.cire.org.co/oferta/curso-fundamental-del-cristianismo-una-mirada-renovada-de-la-fe-primer-semestre/
LOCATION:Contacto
CATEGORIES:Cursos y Talleres
ATTACH;FMTTYPE=image/jpeg:http://www.cire.org.co/wp-content/uploads/2022/11/Retiro-de-fin-de-mes-scaled-1.jpg
END:VEVENT
END:VCALENDAR