BEGIN:VCALENDAR
VERSION:2.0
PRODID:-//CIRE - ECPv6.11.2.1//NONSGML v1.0//EN
CALSCALE:GREGORIAN
METHOD:PUBLISH
X-WR-CALNAME:CIRE
X-ORIGINAL-URL:http://www.cire.org.co
X-WR-CALDESC:Eventos para CIRE
REFRESH-INTERVAL;VALUE=DURATION:PT1H
X-Robots-Tag:noindex
X-PUBLISHED-TTL:PT1H
BEGIN:VTIMEZONE
TZID:America/Bogota
BEGIN:STANDARD
TZOFFSETFROM:-0500
TZOFFSETTO:-0500
TZNAME:-05
DTSTART:20240101T000000
END:STANDARD
END:VTIMEZONE
BEGIN:VEVENT
DTSTART;TZID=America/Bogota:20240529T070000
DTEND;TZID=America/Bogota:20240529T123000
DTSTAMP:20260421T205727
CREATED:20240423T131755Z
LAST-MODIFIED:20240423T131755Z
UID:11405-1716966000-1716985800@www.cire.org.co
SUMMARY:Ejercicios Espirituales de 3 días - Antioquia
DESCRIPTION:Fecha: del 1 al 3 de junio  \nHora de salida hacia al retiro Sábado 1 de junio 7:00 am desde la Estación Estadio (Metro de Medellín) \nHora de finalización de la experiencia el 3 de junio a las 4:00 pm en la casa de Ejercicios Espirituales \nLugar: Casa de Ejercicios La Colombiere / La Ceja Antioquia \nAcompañan: Padre José Roberto Arango\, SJ y equipo CIRE \nValor: $715.000 \nInformes e inscripciones:\nTELEVID Teléfono (604) 3229050 opción 1 y 4 / WhatsApp 3052249333
URL:http://www.cire.org.co/oferta/ejercicios-espirituales-de-3-dias-en-antioquia/
CATEGORIES:Ejercicios Espirituales
ATTACH;FMTTYPE=image/png:http://www.cire.org.co/wp-content/uploads/2024/04/Rainbow-Playful-Pride-Party-Invitation-Instagram-Post-11.png
END:VEVENT
END:VCALENDAR