BEGIN:VCALENDAR
VERSION:2.0
PRODID:-//CIRE - ECPv6.11.2.1//NONSGML v1.0//EN
CALSCALE:GREGORIAN
METHOD:PUBLISH
X-WR-CALNAME:CIRE
X-ORIGINAL-URL:http://www.cire.org.co
X-WR-CALDESC:Eventos para CIRE
REFRESH-INTERVAL;VALUE=DURATION:PT1H
X-Robots-Tag:noindex
X-PUBLISHED-TTL:PT1H
BEGIN:VTIMEZONE
TZID:America/Bogota
BEGIN:STANDARD
TZOFFSETFROM:-0500
TZOFFSETTO:-0500
TZNAME:-05
DTSTART:20240101T000000
END:STANDARD
END:VTIMEZONE
BEGIN:VEVENT
DTSTART;TZID=America/Bogota:20240201T080000
DTEND;TZID=America/Bogota:20240203T170000
DTSTAMP:20260420T075450
CREATED:20231128T215253Z
LAST-MODIFIED:20231128T215253Z
UID:11314-1706774400-1706979600@www.cire.org.co
SUMMARY:Encuentro de Inmersión Ignaciana
DESCRIPTION:Encuentro de Inmersión Ignaciana \nEn Pasto Nariño del 1 al 3 de febrero \nP. Luis Guillermo Sarasa Gallego\, S.J. \nP. Carlos Franco Revelo\, S.J. \nCatalina Perdomo (CIRE Ampliado)
URL:http://www.cire.org.co/oferta/encuentro-de-inmersion-ignaciana-2/
CATEGORIES:Cursos y Talleres
ATTACH;FMTTYPE=image/jpeg:http://www.cire.org.co/wp-content/uploads/2023/11/enrique-vidal-flores-8eyLLkKo00o-unsplash-scaled-1.jpg
END:VEVENT
END:VCALENDAR