BEGIN:VCALENDAR
VERSION:2.0
PRODID:-//CIRE - ECPv6.11.2.1//NONSGML v1.0//EN
CALSCALE:GREGORIAN
METHOD:PUBLISH
X-WR-CALNAME:CIRE
X-ORIGINAL-URL:http://www.cire.org.co
X-WR-CALDESC:Eventos para CIRE
REFRESH-INTERVAL;VALUE=DURATION:PT1H
X-Robots-Tag:noindex
X-PUBLISHED-TTL:PT1H
BEGIN:VTIMEZONE
TZID:America/Bogota
BEGIN:STANDARD
TZOFFSETFROM:-0500
TZOFFSETTO:-0500
TZNAME:-05
DTSTART:20240101T000000
END:STANDARD
END:VTIMEZONE
BEGIN:VEVENT
DTSTART;TZID=America/Bogota:20240115T080000
DTEND;TZID=America/Bogota:20240115T170000
DTSTAMP:20260419T111915
CREATED:20231129T155435Z
LAST-MODIFIED:20231129T155435Z
UID:11323-1705305600-1705338000@www.cire.org.co
SUMMARY:Retiro Espiritual de Tres (3) días - Fe y Alegría
DESCRIPTION:Retiro Espiritual de Tres (3) días para Fe y Alegría \nAcompaña: El P. Carlos Franco Revelo\, S.J.
URL:http://www.cire.org.co/oferta/retiro-espiritual-de-tres-3-dias-fe-y-alegria/
CATEGORIES:Retiro de 3 días,Retiros Ignacianos
ATTACH;FMTTYPE=image/png:http://www.cire.org.co/wp-content/uploads/2023/11/Fe-y-Alegria.png
END:VEVENT
END:VCALENDAR