BEGIN:VCALENDAR
VERSION:2.0
PRODID:-//CIRE - ECPv6.11.2.1//NONSGML v1.0//EN
CALSCALE:GREGORIAN
METHOD:PUBLISH
X-WR-CALNAME:CIRE
X-ORIGINAL-URL:http://www.cire.org.co
X-WR-CALDESC:Eventos para CIRE
REFRESH-INTERVAL;VALUE=DURATION:PT1H
X-Robots-Tag:noindex
X-PUBLISHED-TTL:PT1H
BEGIN:VTIMEZONE
TZID:America/Bogota
BEGIN:STANDARD
TZOFFSETFROM:-0500
TZOFFSETTO:-0500
TZNAME:-05
DTSTART:20250101T000000
END:STANDARD
END:VTIMEZONE
BEGIN:VEVENT
DTSTART;TZID=America/Bogota:20250503T080000
DTEND;TZID=America/Bogota:20250503T170000
DTSTAMP:20260419T204235
CREATED:20250212T164331Z
LAST-MODIFIED:20250212T164352Z
UID:12967-1746259200-1746291600@www.cire.org.co
SUMMARY:Retiro - Franciscanos
DESCRIPTION:Retiro de un día para los Franciscanos \nUniversidad San Buenaventura \nTema: Discernimiento y Vocación \nAcompaña: P. Luis Guillermo Sarasa\, SJ
URL:http://www.cire.org.co/oferta/retiro-franciscanos/
LOCATION:Bogotá\, Bogotá\, Soacha
CATEGORIES:Retiro de 1 día
ATTACH;FMTTYPE=image/png:http://www.cire.org.co/wp-content/uploads/2025/02/Retiro-Universidad-San-Buenaventura.png
ORGANIZER;CN="CIRE":MAILTO:formacion.cire@jesuitas.org.co
END:VEVENT
END:VCALENDAR