BEGIN:VCALENDAR
VERSION:2.0
PRODID:-//CIRE - ECPv6.11.2.1//NONSGML v1.0//EN
CALSCALE:GREGORIAN
METHOD:PUBLISH
X-WR-CALNAME:CIRE
X-ORIGINAL-URL:http://www.cire.org.co
X-WR-CALDESC:Eventos para CIRE
REFRESH-INTERVAL;VALUE=DURATION:PT1H
X-Robots-Tag:noindex
X-PUBLISHED-TTL:PT1H
BEGIN:VTIMEZONE
TZID:America/Bogota
BEGIN:STANDARD
TZOFFSETFROM:-0500
TZOFFSETTO:-0500
TZNAME:-05
DTSTART:20240101T000000
END:STANDARD
END:VTIMEZONE
BEGIN:VEVENT
DTSTART;TZID=America/Bogota:20240427T080000
DTEND;TZID=America/Bogota:20240427T130000
DTSTAMP:20260420T081211
CREATED:20230921T134319Z
LAST-MODIFIED:20230921T134319Z
UID:11260-1714204800-1714222800@www.cire.org.co
SUMMARY:Retiro Pedro Arrupe ❝¿No ardía nuestro corazón?❞
DESCRIPTION:Retiro Abril: Al estilo ignaciano. \nCupos presenciales limitados\, inscríbete ahora mismo para asegurar tu lugar \nPedro Arrupe de finalización de Mes\, acompañado por Andrea Esguerra\, Comunidad de Acompañantes Espirituales RJI y Joaquín Tabera SJ.  \nRetiro espiritual de medio día siguiendo el camino de la Espiritualidad Ignaciana. \nModalidad: Presencial y virtual \nAporte voluntario \nLos Retiros Pedro Arrupe\, que se brindan en el CIRE los últimos sábados de cada mes en formato virtual y presencial\, son un espacio de oración de una mañana en el que buscamos que sus participantes puedan tener un tiempo de silencio para irse enamorando cada vez más de Dios. \nLos retiros son acompañados por el equipo de acompañantes del CIRE y por la Comunidad de Acompañantes Espirituales (C.A.E) de la Red Juvenil Ignaciana de Colombia. \nEn esta mañana de oración se da a los participantes unos “puntos” para su oración personal desde una charla introductoria y el equipo de acompañantes está disponible para la conversación espiritual durante toda la mañana; de manera que en el silencio las personas puedan encontrarse con Dios y también cuenten con un espacio\, opcional\, para confrontar sus mociones. \n\n\n\nHs.\nGrupo Presencial\nGrupo virtual\n\n\n8:15\nConvocatoria\nConvocatoria\n\n\n8:30\nCharla de orientación para la oración\nCharla de orientación para la oración\n\n\n9:30 – 11:30\nTiempo de oración personal y acompañamiento\nTiempo de oración personal y acompañamiento\n\n\n11:30\nCompartir y cierre\n\n\n12:00 – 13:00\nCelebración de la palabra\n\n\n\nOpciones de pago \n\nEfectivo y pago por Datáfono – Oficinas del CIRE\n\nTransferencias o consignación: \n\nBanco Caja social- cuenta corriente No. 21002693746 a nombre de Compañía de Jesús\, NIT. 860.007.627-1.\nBancolombia- Cuenta de Ahorro No 0-1300010070 a nombre de Compañía de Jesús\, NIT. 860.007.627-1.\nLink de pago online\n\nInscripción: \nPodrás realizar la inscripción en el botón (Asistiré)\, localizado en la parte inferior de la pantalla y para enviar y confirmar (Terminar). \nNuestro salón de encuentro presencial cuenta con cuarenta (40) sillas\, razón por la cual cuando se completa este aforo sólo habilitaremos la modalidad virtual en la inscripción\, esto les será comunicado oportunamente.
URL:http://www.cire.org.co/oferta/retiro-pedro-arrupe-abril-2/
LOCATION:Contacto
CATEGORIES:Retiro de medio día
ATTACH;FMTTYPE=image/png:http://www.cire.org.co/wp-content/uploads/2023/09/Retiros-Pedro-Arrupe.png
END:VEVENT
END:VCALENDAR