BEGIN:VCALENDAR
VERSION:2.0
PRODID:-//CIRE - ECPv6.11.2.1//NONSGML v1.0//EN
CALSCALE:GREGORIAN
METHOD:PUBLISH
X-WR-CALNAME:CIRE
X-ORIGINAL-URL:http://www.cire.org.co
X-WR-CALDESC:Eventos para CIRE
REFRESH-INTERVAL;VALUE=DURATION:PT1H
X-Robots-Tag:noindex
X-PUBLISHED-TTL:PT1H
BEGIN:VTIMEZONE
TZID:America/Bogota
BEGIN:STANDARD
TZOFFSETFROM:-0500
TZOFFSETTO:-0500
TZNAME:-05
DTSTART:20260101T000000
END:STANDARD
END:VTIMEZONE
BEGIN:VEVENT
DTSTART;TZID=America/Bogota:20260724T080000
DTEND;TZID=America/Bogota:20260725T170000
DTSTAMP:20260424T012347
CREATED:20251119T151305Z
LAST-MODIFIED:20260317T204307Z
UID:16647-1784880000-1784998800@www.cire.org.co
SUMMARY:Simposio de Ejercicios Espirituales - Juventudes
DESCRIPTION:El CIRE invita al XXVI Simposio de Ejercicios Espirituales – Juventudes \n\nValor total: $180.000 \nValor a pagar: $90.000 (Iva Incluido) \nEste valor tiene ya el apoyo del 50%\, que lo ofrece el fondo para Ejercicios Espirituales\, San Claudio de la Colombière de la Provincia Colombiana \n\n 
URL:http://www.cire.org.co/oferta/simposio-de-ejercicios-espirituales-juventudes/
LOCATION:CIRE\, Cra 10 #65-48\, Chapinero\, Bogotá
CATEGORIES:Cursos y Talleres
ATTACH;FMTTYPE=image/png:http://www.cire.org.co/wp-content/uploads/2025/11/Simposio-juventudes.png
ORGANIZER;CN="CIRE":MAILTO:formacion.cire@jesuitas.org.co
END:VEVENT
END:VCALENDAR