BEGIN:VCALENDAR
VERSION:2.0
PRODID:-//CIRE - ECPv6.11.2.1//NONSGML v1.0//EN
CALSCALE:GREGORIAN
METHOD:PUBLISH
X-WR-CALNAME:CIRE
X-ORIGINAL-URL:http://www.cire.org.co
X-WR-CALDESC:Eventos para CIRE
REFRESH-INTERVAL;VALUE=DURATION:PT1H
X-Robots-Tag:noindex
X-PUBLISHED-TTL:PT1H
BEGIN:VTIMEZONE
TZID:America/Bogota
BEGIN:STANDARD
TZOFFSETFROM:-0500
TZOFFSETTO:-0500
TZNAME:-05
DTSTART:20260101T000000
END:STANDARD
END:VTIMEZONE
BEGIN:VEVENT
DTSTART;TZID=America/Bogota:20260613T080000
DTEND;TZID=America/Bogota:20260620T120000
DTSTAMP:20260423T071737
CREATED:20260422T142548Z
LAST-MODIFIED:20260422T144313Z
UID:18311-1781337600-1781956800@www.cire.org.co
SUMMARY:Taller: ¿Quién dicen ustedes que soy yo? - Sanar nuestras imágenes de Dios
DESCRIPTION:Lo que pensamos de Dios determina en buena medida nuestra relación con Él y nuestro mundo relacional. En esa medida\, se hace necesario examinar con honestidad nuestras imágenes de Dios y descubrir en ellas nuestra experiencia con Jesús que sana\, libera y nos compromete con su Reino. \nTalleristas: Hna. Melba Neris – Religiosa Psicoterapeuta y Stivel Toloza SJ – Director del CIRE \nValor: $50.000 (las dos sesiones) \nFechas: Sábado 13 y Sábado 20 de junio\, Hora: 8:00 a.m. a 12:00 m
URL:http://www.cire.org.co/oferta/taller-quien-dicen-ustedes-que-soy-yo-sanar-nuestras-imagenes-de-dios/
LOCATION:Virtual\, Virtual
CATEGORIES:Cursos y Talleres
ATTACH;FMTTYPE=image/png:http://www.cire.org.co/wp-content/uploads/2026/04/¿Quién-dicen-ustedes-que-soy-yo.png
ORGANIZER;CN="CIRE":MAILTO:formacion.cire@jesuitas.org.co
END:VEVENT
END:VCALENDAR