BEGIN:VCALENDAR
VERSION:2.0
PRODID:-//CIRE - ECPv6.11.2.1//NONSGML v1.0//EN
CALSCALE:GREGORIAN
METHOD:PUBLISH
X-WR-CALNAME:CIRE
X-ORIGINAL-URL:http://www.cire.org.co
X-WR-CALDESC:Eventos para CIRE
REFRESH-INTERVAL;VALUE=DURATION:PT1H
X-Robots-Tag:noindex
X-PUBLISHED-TTL:PT1H
BEGIN:VTIMEZONE
TZID:America/Bogota
BEGIN:STANDARD
TZOFFSETFROM:-0500
TZOFFSETTO:-0500
TZNAME:-05
DTSTART:20250101T000000
END:STANDARD
END:VTIMEZONE
BEGIN:VEVENT
DTSTART;TZID=America/Bogota:20250515T160000
DTEND;TZID=America/Bogota:20250515T180000
DTSTAMP:20260425T133228
CREATED:20241205T144900Z
LAST-MODIFIED:20250514T140918Z
UID:11984-1747324800-1747332000@www.cire.org.co
SUMMARY:Todo volverá a ir bien\, vivir con plenitud los tiempo de duelo
DESCRIPTION:Este es un taller para comprender el proceso de duelo que estoy viviendo y ayudarme o ayudar a otros. \nEste espacio se propone como un taller vivencial. Invita a que la persona se conozca y cultive su mundo interior desde la integración de la psicología y espiritualidad. \nSe hará un trabajo personal a través de la práctica del silencio\, la lectura\, la escritura\, el dibujo y la conciencia y el movimiento corporal. \nModalidad: virtual \nFecha sesiones: \nJueves 15 de mayo de 5:00 a 7:00 p.m. \nSegunda sesión el sábado 17 de mayo de 8:30 a 12:30 \nDirige: Carolina Sánchez \nOpciones de pago \n\n\nEfectivo y pago por Datáfono – Oficinas del CIRE\n\n\nTransferencias o consignación:\n\n\nBanco Caja social- cuenta corriente No. 21002693746 a nombre de Compañía de Jesús\, NIT. 860.007.627-1.\n\n\nBancolombia- Cuenta de Ahorro No 0-1300010070 a nombre de Compañía de Jesús\, NIT. 860.007.627-1.\n\nLink de pago online\n\nInscripción: \nPodrás realizar la inscripción en el botón (Asistiré)\, localizado en la parte superior de la pantalla y para enviar y confirmar (Terminar).
URL:http://www.cire.org.co/oferta/taller-todo-volvera-a-ir-bien-vivir-con-plenitud-los-tiempo-de-duelo-4/
LOCATION:Virtual\, Virtual
CATEGORIES:Cursos y Talleres
ATTACH;FMTTYPE=image/jpeg:http://www.cire.org.co/wp-content/uploads/2024/12/Duelo.jpg
ORGANIZER;CN="CIRE":MAILTO:formacion.cire@jesuitas.org.co
END:VEVENT
END:VCALENDAR