BEGIN:VCALENDAR
VERSION:2.0
PRODID:-//CIRE - ECPv6.11.2.1//NONSGML v1.0//EN
CALSCALE:GREGORIAN
METHOD:PUBLISH
X-WR-CALNAME:CIRE
X-ORIGINAL-URL:http://www.cire.org.co
X-WR-CALDESC:Eventos para CIRE
REFRESH-INTERVAL;VALUE=DURATION:PT1H
X-Robots-Tag:noindex
X-PUBLISHED-TTL:PT1H
BEGIN:VTIMEZONE
TZID:America/Bogota
BEGIN:STANDARD
TZOFFSETFROM:-0500
TZOFFSETTO:-0500
TZNAME:-05
DTSTART:20250101T000000
END:STANDARD
END:VTIMEZONE
BEGIN:VEVENT
DTSTART;TZID=America/Bogota:20250416T140000
DTEND;TZID=America/Bogota:20250420T170000
DTSTAMP:20260422T004903
CREATED:20250212T162525Z
LAST-MODIFIED:20250325T212500Z
UID:12954-1744812000-1745168400@www.cire.org.co
SUMMARY:Ejercicios Espirituales Acompañados Semana Santa - Antioquia
DESCRIPTION:Ejercicios Espirituales Acompañados – Semana Santa \nDe 5 días: Del 16 de abril a las 2 pm (hora de recogida del transporte) al 20 de abril a las 5 pm \nAcompaña: P. José Roberto Arango y equipo CIRE \nLugar: Casa de Retiros del Seminario Conciliar de Medellín \nValor: $870.000 \nInversión incluye: transporte\, alojamiento\, alimentación\, materiales\, acompañamiento personal.\nInformes e inscripciones \nTelevid\n6043229050 opción 1 y 4\nWhatsApp 3052249333 \nInscripciones aquí
URL:http://www.cire.org.co/oferta/triduo-semana-santa-antioquia/
LOCATION:Medellín\, Medellín\, Colombia
CATEGORIES:Retiro de 3 días
ATTACH;FMTTYPE=image/png:http://www.cire.org.co/wp-content/uploads/2025/02/EE-SEMANA-SANTA-Medellin.png
END:VEVENT
END:VCALENDAR